BEGIN:VCALENDAR
VERSION:2.0
PRODID:-//SLA - ECPv5.16.3.1//NONSGML v1.0//EN
CALSCALE:GREGORIAN
METHOD:PUBLISH
X-ORIGINAL-URL:https://sla-sucy.fr
X-WR-CALDESC:Events for SLA
REFRESH-INTERVAL;VALUE=DURATION:PT1H
X-Robots-Tag:noindex
X-PUBLISHED-TTL:PT1H
BEGIN:VTIMEZONE
TZID:Europe/Paris
BEGIN:DAYLIGHT
TZOFFSETFROM:+0100
TZOFFSETTO:+0200
TZNAME:CEST
DTSTART:20230326T010000
END:DAYLIGHT
BEGIN:STANDARD
TZOFFSETFROM:+0200
TZOFFSETTO:+0100
TZNAME:CET
DTSTART:20231029T010000
END:STANDARD
END:VTIMEZONE
BEGIN:VEVENT
DTSTART;TZID=Europe/Paris:20230103T084500
DTEND;TZID=Europe/Paris:20230103T090000
DTSTAMP:20260423T205606
CREATED:20221228T092309Z
LAST-MODIFIED:20230108T095804Z
UID:26562-1672735500-1672736400@sla-sucy.fr
SUMMARY:Inscriptions Randonnées Périgny-sur-Yerres
DESCRIPTION:Randonnée Périgny-sur-Yerres : de la vallée de l’Yerres au plateau Briard \nInscriptions à partir du mardi 3 janvier uniquement au marché du Fort au départ des marches\navec carte d’adhérent et chèque de 24 € à l’ordre de SLA pour le restaurant. \nPour voir le détail : cliquer sur la randonnée qui vous intéresse \n\nRandonnée du mardi 17 janvier\nRandonnée du vendredi 20 janvier\n\n 
URL:https://sla-sucy.fr/evenement/inscriptions-randonnee-perigny-sur-yerres/
CATEGORIES:Inscriptions,Randonnées
ATTACH;FMTTYPE=image/jpeg:https://sla-sucy.fr/wp-content/uploads/2022/12/Rando-Marches2.jpg
END:VEVENT
BEGIN:VEVENT
DTSTART;TZID=Europe/Paris:20230127T083000
DTEND;TZID=Europe/Paris:20230127T100000
DTSTAMP:20260423T205606
CREATED:20221230T045002Z
LAST-MODIFIED:20230121T091913Z
UID:27839-1674808200-1674813600@sla-sucy.fr
SUMMARY:Inscriptions Randonnée Vaires olympique\, Noisiel\, Chelles.
DESCRIPTION:Inscriptions : à partir du 27 Janvier auprès des responsables \nAu marché du Fort les vendredis : André Marty (06 75 03 26 23)\nAu rocher les mardis : Françoise Sagne (06 21 04 65 51) \n  \nCliquer ici pour voir le détail de la randonnée
URL:https://sla-sucy.fr/evenement/inscriptions-randonnee-vaires-olympique-noisiel-chelles/
CATEGORIES:Inscriptions,Randonnées
ATTACH;FMTTYPE=image/jpeg:https://sla-sucy.fr/wp-content/uploads/2022/12/Rando-Marches2-1.jpg
END:VEVENT
END:VCALENDAR