BEGIN:VCALENDAR
VERSION:2.0
PRODID:-//SLA - ECPv5.16.3.1//NONSGML v1.0//EN
CALSCALE:GREGORIAN
METHOD:PUBLISH
X-ORIGINAL-URL:https://sla-sucy.fr
X-WR-CALDESC:Events for SLA
REFRESH-INTERVAL;VALUE=DURATION:PT1H
X-Robots-Tag:noindex
X-PUBLISHED-TTL:PT1H
BEGIN:VTIMEZONE
TZID:Europe/Paris
BEGIN:DAYLIGHT
TZOFFSETFROM:+0100
TZOFFSETTO:+0200
TZNAME:CEST
DTSTART:20230326T010000
END:DAYLIGHT
BEGIN:STANDARD
TZOFFSETFROM:+0200
TZOFFSETTO:+0100
TZNAME:CET
DTSTART:20231029T010000
END:STANDARD
END:VTIMEZONE
BEGIN:VEVENT
DTSTART;TZID=Europe/Paris:20230530T083000
DTEND;TZID=Europe/Paris:20230609T090000
DTSTAMP:20260423T125930
CREATED:20221230T051255Z
LAST-MODIFIED:20230130T072439Z
UID:27211-1685435400-1686301200@sla-sucy.fr
SUMMARY:Inscriptions Randonnée Moisenay - Blandy les Tours par le Val d'Ancoeur
DESCRIPTION:Randonnée du mardi 13 juin \nInscriptions : le 30 Mai 2023 à 8h30 uniquement au marché du Fort avec la carte d’adhérent \nCliquer ici pour voir le détail de la randonnée
URL:https://sla-sucy.fr/evenement/inscriptions-randonnee-moisenay-blandy-les-tours-par-le-val-dancoeur/
CATEGORIES:Inscriptions,Randonnées
ATTACH;FMTTYPE=image/jpeg:https://sla-sucy.fr/wp-content/uploads/2022/12/Rando-Marches2.jpg
END:VEVENT
END:VCALENDAR