BEGIN:VCALENDAR
VERSION:2.0
PRODID:-//SLA - ECPv5.16.3.1//NONSGML v1.0//EN
CALSCALE:GREGORIAN
METHOD:PUBLISH
X-WR-CALNAME:SLA
X-ORIGINAL-URL:https://sla-sucy.fr
X-WR-CALDESC:Events for SLA
REFRESH-INTERVAL;VALUE=DURATION:PT1H
X-Robots-Tag:noindex
X-PUBLISHED-TTL:PT1H
BEGIN:VTIMEZONE
TZID:Europe/Paris
BEGIN:DAYLIGHT
TZOFFSETFROM:+0100
TZOFFSETTO:+0200
TZNAME:CEST
DTSTART:20230326T010000
END:DAYLIGHT
BEGIN:STANDARD
TZOFFSETFROM:+0200
TZOFFSETTO:+0100
TZNAME:CET
DTSTART:20231029T010000
END:STANDARD
END:VTIMEZONE
BEGIN:VEVENT
DTSTART;TZID=Europe/Paris:20231107T084500
DTEND;TZID=Europe/Paris:20231110T084500
DTSTAMP:20260423T043417
CREATED:20230927T183222Z
LAST-MODIFIED:20231019T175007Z
UID:34021-1699346700-1699605900@sla-sucy.fr
SUMMARY:Inscriptions : Randonnée en forêt de Fontainebleau
DESCRIPTION:Pour vous inscrire : rendez-vous au départ des marches\, parc de la Garennière aux dates suivantes : \n\nMardi 7 novembre\nVendredi 10 novembre.\n\nPour en savoir plus : cliquez ici
URL:https://sla-sucy.fr/evenement/inscriptions-randonnee-en-foret-de-fontainebleau/
CATEGORIES:Inscriptions,Randonnées
ATTACH;FMTTYPE=image/jpeg:https://sla-sucy.fr/wp-content/uploads/2023/09/Rando-Marches2.jpg
END:VEVENT
END:VCALENDAR