BEGIN:VCALENDAR
VERSION:2.0
PRODID:-//SLA - ECPv5.16.3.1//NONSGML v1.0//EN
CALSCALE:GREGORIAN
METHOD:PUBLISH
X-WR-CALNAME:SLA
X-ORIGINAL-URL:https://sla-sucy.fr
X-WR-CALDESC:Events for SLA
REFRESH-INTERVAL;VALUE=DURATION:PT1H
X-Robots-Tag:noindex
X-PUBLISHED-TTL:PT1H
BEGIN:VTIMEZONE
TZID:Europe/Paris
BEGIN:DAYLIGHT
TZOFFSETFROM:+0100
TZOFFSETTO:+0200
TZNAME:CEST
DTSTART:20230326T010000
END:DAYLIGHT
BEGIN:STANDARD
TZOFFSETFROM:+0200
TZOFFSETTO:+0100
TZNAME:CET
DTSTART:20231029T010000
END:STANDARD
END:VTIMEZONE
BEGIN:VEVENT
DTSTART;TZID=Europe/Paris:20230407T084500
DTEND;TZID=Europe/Paris:20230407T090000
DTSTAMP:20260423T172644
CREATED:20230227T160838Z
LAST-MODIFIED:20230227T161421Z
UID:28702-1680857100-1680858000@sla-sucy.fr
SUMMARY:Inscriptions Randonnée découverte du XIXème arrondissement de Paris
DESCRIPTION:Inscriptions uniquement auprès des responsables de la sortie\, au marché du Fort :  \nles vendredi 7 avril et le mardi 11 avril pour les deux visites des 14  et 25 avril \nCliquez ici pour voir le détail de la randonnée du mardi 14 avril \nCliquez ici pour voir le détail de la randonnée du vendredi 25 avril \n 
URL:https://sla-sucy.fr/evenement/inscriptions-randonnee-decouverte-du-xixeme-arrondissement-de-paris/
CATEGORIES:Inscriptions,Randonnées
ATTACH;FMTTYPE=image/jpeg:https://sla-sucy.fr/wp-content/uploads/2022/12/Rando-Marches2.jpg
END:VEVENT
END:VCALENDAR