BEGIN:VCALENDAR
VERSION:2.0
PRODID:-//SLA - ECPv5.16.3.1//NONSGML v1.0//EN
CALSCALE:GREGORIAN
METHOD:PUBLISH
X-ORIGINAL-URL:https://sla-sucy.fr
X-WR-CALDESC:Events for SLA
REFRESH-INTERVAL;VALUE=DURATION:PT1H
X-Robots-Tag:noindex
X-PUBLISHED-TTL:PT1H
BEGIN:VTIMEZONE
TZID:Europe/Paris
BEGIN:DAYLIGHT
TZOFFSETFROM:+0100
TZOFFSETTO:+0200
TZNAME:CEST
DTSTART:20230326T010000
END:DAYLIGHT
BEGIN:STANDARD
TZOFFSETFROM:+0200
TZOFFSETTO:+0100
TZNAME:CET
DTSTART:20231029T010000
END:STANDARD
END:VTIMEZONE
BEGIN:VEVENT
DTSTART;TZID=Europe/Paris:20230411T084500
DTEND;TZID=Europe/Paris:20230523T160000
DTSTAMP:20260423T191932
CREATED:20230329T165839Z
LAST-MODIFIED:20230401T090609Z
UID:29497-1681202700-1684857600@sla-sucy.fr
SUMMARY:Inscriptions : Rallye pédestre du mardi 6 juin 2023
DESCRIPTION:INSCRIPTIONS DU MARDI 11 AVRIL AU MARDI 23 MAI \n– au départ des marches auprès des organisateurs (Anne-Marie et Didier MORAND\, Catherine et Michel BURGER\, Claudine et Jean-Claude CLERC\, Christine RICCI\, Annie VILLERET\, Sylvie GIRODON-HOBBY) \n– à la permanence au bureau de SLA : le mardi après-midi auprès de Geneviève GUILLON. \nSi vous désirez participer au repas qui suivra le rallye\, vous devrez vous inscrire selon les modalités précisées dans le descriptif de l’évènement. Cliquez ici pour le voir \n 
URL:https://sla-sucy.fr/evenement/inscriptions-rallye-avec-repas-champetre-du-mardi-6-juin-2023/
CATEGORIES:Inscriptions,Randonnées
ATTACH;FMTTYPE=image/jpeg:https://sla-sucy.fr/wp-content/uploads/2022/12/Rando-Marches2-1.jpg
END:VEVENT
BEGIN:VEVENT
DTSTART;TZID=Europe/Paris:20230412T100000
DTEND;TZID=Europe/Paris:20230412T120000
DTSTAMP:20260423T191932
CREATED:20230320T171428Z
LAST-MODIFIED:20230320T171837Z
UID:29310-1681293600-1681300800@sla-sucy.fr
SUMMARY:Inscriptions Escapade ERQUY
DESCRIPTION:Escapade Erquy du 24 au 30 septembre  – cliquer pour voir le détail \nInscriptions le mercredi 12 avril de 10h à 12h au bureau de SLA \nBulletin d’inscription disponible en cliquant ici
URL:https://sla-sucy.fr/evenement/inscriptions-escapade-erquy/
LOCATION:Bureau SLA\, 14 place du clos de pacy\, Sucy en brie\, 94370\, France
CATEGORIES:Inscriptions,Randonnées
ATTACH;FMTTYPE=image/jpeg:https://sla-sucy.fr/wp-content/uploads/2022/12/Rando-Marches2-1.jpg
END:VEVENT
END:VCALENDAR