BEGIN:VCALENDAR
VERSION:2.0
PRODID:-//SLA - ECPv5.16.3.1//NONSGML v1.0//EN
CALSCALE:GREGORIAN
METHOD:PUBLISH
X-WR-CALNAME:SLA
X-ORIGINAL-URL:https://sla-sucy.fr
X-WR-CALDESC:Events for SLA
REFRESH-INTERVAL;VALUE=DURATION:PT1H
X-Robots-Tag:noindex
X-PUBLISHED-TTL:PT1H
BEGIN:VTIMEZONE
TZID:Europe/Paris
BEGIN:DAYLIGHT
TZOFFSETFROM:+0100
TZOFFSETTO:+0200
TZNAME:CEST
DTSTART:20230326T010000
END:DAYLIGHT
BEGIN:STANDARD
TZOFFSETFROM:+0200
TZOFFSETTO:+0100
TZNAME:CET
DTSTART:20231029T010000
END:STANDARD
END:VTIMEZONE
BEGIN:VEVENT
DTSTART;TZID=Europe/Paris:20230912T084500
DTEND;TZID=Europe/Paris:20230919T090000
DTSTAMP:20260423T093945
CREATED:20230902T165203Z
LAST-MODIFIED:20231009T103404Z
UID:31688-1694508300-1695114000@sla-sucy.fr
SUMMARY:Inscriptions : Randonnée en Brie du 22 septembre
DESCRIPTION:Randonnée en Brie\nvendredi 22 septembre 2023\nInscriptions au départ des marches hebdomadaires du Mardi et du Vendredi\, au « rocher »  : \ndu mardi 12 au mardi 19 septembre \n\nauprès des responsables Philippe Autier ou André Labarrière.\n \nCliquer ici pour voir le détail de la randonnée \n  \n 
URL:https://sla-sucy.fr/evenement/inscriptions-randonnee-en-brie-du-22-septembre/
CATEGORIES:Inscriptions,Randonnées
ATTACH;FMTTYPE=image/jpeg:https://sla-sucy.fr/wp-content/uploads/2022/12/Rando-Marches2.jpg
END:VEVENT
BEGIN:VEVENT
DTSTART;TZID=Europe/Paris:20230915T080000
DTEND;TZID=Europe/Paris:20230921T170000
DTSTAMP:20260423T093945
CREATED:20230915T081508Z
LAST-MODIFIED:20230916T083538Z
UID:33546-1694764800-1695315600@sla-sucy.fr
SUMMARY:Inscription Sortie Cycloloisirs à la journée du 21 septembre 2023
DESCRIPTION:Inscriptions : en cours auprès des responsables\, au départ des sorties. \nCliquez ici pour découvrir le programme
URL:https://sla-sucy.fr/evenement/inscrription-sortie-cycloloisirs-a-la-journee-du-21-septembre-2023/
LOCATION:Parc des sports de Sucy\, Parc Municipal des sports\, SUCY EN BRIE\, 94370\, France
CATEGORIES:Inscriptions,Randonnées
GEO:48.760954522252;2.5335360817831
X-APPLE-STRUCTURED-LOCATION;VALUE=URI;X-ADDRESS=Parc des sports de Sucy Parc Municipal des sports SUCY EN BRIE 94370 France;X-APPLE-RADIUS=500;X-TITLE=Parc Municipal des sports:geo:2.5335360817831,48.760954522252
END:VEVENT
END:VCALENDAR