BEGIN:VCALENDAR
VERSION:2.0
PRODID:-//SLA - ECPv5.16.3.1//NONSGML v1.0//EN
CALSCALE:GREGORIAN
METHOD:PUBLISH
X-ORIGINAL-URL:https://sla-sucy.fr
X-WR-CALDESC:Events for SLA
REFRESH-INTERVAL;VALUE=DURATION:PT1H
X-Robots-Tag:noindex
X-PUBLISHED-TTL:PT1H
BEGIN:VTIMEZONE
TZID:Europe/Paris
BEGIN:DAYLIGHT
TZOFFSETFROM:+0100
TZOFFSETTO:+0200
TZNAME:CEST
DTSTART:20230326T010000
END:DAYLIGHT
BEGIN:STANDARD
TZOFFSETFROM:+0200
TZOFFSETTO:+0100
TZNAME:CET
DTSTART:20231029T010000
END:STANDARD
END:VTIMEZONE
BEGIN:VEVENT
DTSTART;TZID=Europe/Paris:20231003T084500
DTEND;TZID=Europe/Paris:20231014T084500
DTSTAMP:20260423T075638
CREATED:20230902T145909Z
LAST-MODIFIED:20230927T163242Z
UID:31290-1696322700-1697273100@sla-sucy.fr
SUMMARY:Inscriptions : Randonnée Charly-sur-Marne
DESCRIPTION:Inscriptions : \nA partir du mardi 3 octobre au marché du Fort \nCliquer ici pour voir le programme de la randonnée
URL:https://sla-sucy.fr/evenement/inscriptions-randonnee-charly-sur-marne/
CATEGORIES:Inscriptions,Randonnées
ATTACH;FMTTYPE=image/jpeg:https://sla-sucy.fr/wp-content/uploads/2022/12/Rando-Marches2.jpg
END:VEVENT
END:VCALENDAR