BEGIN:VCALENDAR
VERSION:2.0
PRODID:-//SLA - ECPv5.16.3.1//NONSGML v1.0//EN
CALSCALE:GREGORIAN
METHOD:PUBLISH
X-WR-CALNAME:SLA
X-ORIGINAL-URL:https://sla-sucy.fr
X-WR-CALDESC:Events for SLA
REFRESH-INTERVAL;VALUE=DURATION:PT1H
X-Robots-Tag:noindex
X-PUBLISHED-TTL:PT1H
BEGIN:VTIMEZONE
TZID:Europe/Paris
BEGIN:DAYLIGHT
TZOFFSETFROM:+0100
TZOFFSETTO:+0200
TZNAME:CEST
DTSTART:20240331T010000
END:DAYLIGHT
BEGIN:STANDARD
TZOFFSETFROM:+0200
TZOFFSETTO:+0100
TZNAME:CET
DTSTART:20241027T010000
END:STANDARD
END:VTIMEZONE
BEGIN:VEVENT
DTSTART;TZID=Europe/Paris:20240207T100000
DTEND;TZID=Europe/Paris:20240207T113000
DTSTAMP:20260423T011528
CREATED:20231206T202724Z
LAST-MODIFIED:20231206T203820Z
UID:35339-1707300000-1707305400@sla-sucy.fr
SUMMARY:Inscriptions : Rando-Echappée : Amboise – Vallée de la Loire
DESCRIPTION:Du 29 au 31 mai 2024 : 2 jours de randonnée à Amboise et Chenonceaux \nInscriptions :\n – mercredi 7 février de 10h à 11h 30 au bureau de SLA\n– ensuite : auprès des responsables au départ de la marche ou au téléphone\nAnnie SIBILLEAU : 06 80 42 53 34\nClaude SIBILLEAU : 06 30 10 15 21 \nPour en savoir plus sur la randonnée : cliquez sur ce lien. \nEt si vous savez déjà tout :  cliquez ici pour connaître les modalités de paiement et télécharger le bulletin d’inscription.
URL:https://sla-sucy.fr/evenement/inscriptions-rando-echappee-amboise-vallee-de-la-loire/
CATEGORIES:Inscriptions,Randonnées
ATTACH;FMTTYPE=image/jpeg:https://sla-sucy.fr/wp-content/uploads/2023/09/Rando-Marches2.jpg
END:VEVENT
END:VCALENDAR