BEGIN:VCALENDAR
VERSION:2.0
PRODID:-//SLA - ECPv5.16.3.1//NONSGML v1.0//EN
CALSCALE:GREGORIAN
METHOD:PUBLISH
X-ORIGINAL-URL:https://sla-sucy.fr
X-WR-CALDESC:Events for SLA
REFRESH-INTERVAL;VALUE=DURATION:PT1H
X-Robots-Tag:noindex
X-PUBLISHED-TTL:PT1H
BEGIN:VTIMEZONE
TZID:Europe/Paris
BEGIN:DAYLIGHT
TZOFFSETFROM:+0100
TZOFFSETTO:+0200
TZNAME:CEST
DTSTART:20240331T010000
END:DAYLIGHT
BEGIN:STANDARD
TZOFFSETFROM:+0200
TZOFFSETTO:+0100
TZNAME:CET
DTSTART:20241027T010000
END:STANDARD
END:VTIMEZONE
BEGIN:VEVENT
DTSTART;TZID=Europe/Paris:20240213T080000
DTEND;TZID=Europe/Paris:20240213T170000
DTSTAMP:20260423T011805
CREATED:20240103T173607Z
LAST-MODIFIED:20240201T134657Z
UID:35695-1707811200-1707843600@sla-sucy.fr
SUMMARY:Inscriptions : Randonnée au centre hippique de Grosbois
DESCRIPTION:Randonnée au Centre Hippique de Grosbois le mardi 27 février\nInscriptions : \n\nAu départ des marches parc de la Garennière et halle du Fort\, le mardi 13 Février et le vendredi 16 février\nAuprès des responsables : André MARTY (06 75 03 26 23)\, André LABARRIERE (06 02 35 65 45).\n\nPour en savoir plus sur la randonnée : cliquez ici
URL:https://sla-sucy.fr/evenement/inscriptions-randonnee-au-centre-hippique-de-grosbois/
CATEGORIES:Inscriptions,Randonnées
ATTACH;FMTTYPE=image/jpeg:https://sla-sucy.fr/wp-content/uploads/2023/09/Rando-Marches2.jpg
END:VEVENT
END:VCALENDAR