BEGIN:VCALENDAR
VERSION:2.0
PRODID:-//SLA - ECPv5.16.3.1//NONSGML v1.0//EN
CALSCALE:GREGORIAN
METHOD:PUBLISH
X-ORIGINAL-URL:https://sla-sucy.fr
X-WR-CALDESC:Events for SLA
REFRESH-INTERVAL;VALUE=DURATION:PT1H
X-Robots-Tag:noindex
X-PUBLISHED-TTL:PT1H
BEGIN:VTIMEZONE
TZID:Europe/Paris
BEGIN:DAYLIGHT
TZOFFSETFROM:+0100
TZOFFSETTO:+0200
TZNAME:CEST
DTSTART:20240331T010000
END:DAYLIGHT
BEGIN:STANDARD
TZOFFSETFROM:+0200
TZOFFSETTO:+0100
TZNAME:CET
DTSTART:20241027T010000
END:STANDARD
END:VTIMEZONE
BEGIN:VEVENT
DTSTART;VALUE=DATE:20240507
DTEND;VALUE=DATE:20240517
DTSTAMP:20260422T194947
CREATED:20240327T182425Z
LAST-MODIFIED:20240327T182457Z
UID:37046-1715040000-1715903999@sla-sucy.fr
SUMMARY:Inscriptions : Randonnée De Seine en Seine
DESCRIPTION:Randonnée le vendredi 17 mai 2024 \nInscriptions : \n\nAu départ des marches uniquement au marché du Fort\nà partir du mardi 7 mai 2024\,\nAuprès des responsables : Marc THOMAS (06 87 55 42 77)\, Daniel DIEN (06 03 28 46 35).\n\nPour en savoir plus sur la randonnée : cliquez ici
URL:https://sla-sucy.fr/evenement/inscriptions-randonnee-de-seine-en-seine/
CATEGORIES:Inscriptions,Randonnées
ATTACH;FMTTYPE=image/jpeg:https://sla-sucy.fr/wp-content/uploads/2023/09/Rando-Marches2.jpg
END:VEVENT
BEGIN:VEVENT
DTSTART;TZID=Europe/Paris:20240507T090000
DTEND;TZID=Europe/Paris:20240521T173000
DTSTAMP:20260422T194947
CREATED:20240425T103744Z
LAST-MODIFIED:20240521T153616Z
UID:37260-1715072400-1716312600@sla-sucy.fr
SUMMARY:Inscriptions : Repas champêtre réservé aux personnes participant au rallye
DESCRIPTION:Rallye et repas champêtre du mardi 4 juin \n Inscriptions au rallye : closes le 15 mai\, les équipes étant complètes \nInscription au repas champêtre : du mardi 7 au mardi 28 mai réservées à compter du 15 mai aux équipes participant au rallye \n\navec paiement de la somme de 18 €\n– soit en ligne sur le site internet\n– soit au Bureau de SLA à la permanence du mardi de 14h à 16hCliquez ici pour en savoir plus
URL:https://sla-sucy.fr/evenement/inscriptions-rallye-repas-champetre-du-mardi-4-juin-2024-2/
CATEGORIES:Festifs,Inscriptions,Randonnées
ATTACH;FMTTYPE=image/jpeg:https://sla-sucy.fr/wp-content/uploads/2022/12/Activites-Festives2.jpg
END:VEVENT
END:VCALENDAR