BEGIN:VCALENDAR
VERSION:2.0
PRODID:-//SLA - ECPv5.16.3.1//NONSGML v1.0//EN
CALSCALE:GREGORIAN
METHOD:PUBLISH
X-ORIGINAL-URL:https://sla-sucy.fr
X-WR-CALDESC:Events for SLA
REFRESH-INTERVAL;VALUE=DURATION:PT1H
X-Robots-Tag:noindex
X-PUBLISHED-TTL:PT1H
BEGIN:VTIMEZONE
TZID:Europe/Paris
BEGIN:DAYLIGHT
TZOFFSETFROM:+0100
TZOFFSETTO:+0200
TZNAME:CEST
DTSTART:20240331T010000
END:DAYLIGHT
BEGIN:STANDARD
TZOFFSETFROM:+0200
TZOFFSETTO:+0100
TZNAME:CET
DTSTART:20241027T010000
END:STANDARD
END:VTIMEZONE
BEGIN:VEVENT
DTSTART;TZID=Europe/Paris:20240712T084500
DTEND;TZID=Europe/Paris:20240716T090000
DTSTAMP:20260422T162219
CREATED:20240522T175936Z
LAST-MODIFIED:20240522T180511Z
UID:38010-1720773900-1721120400@sla-sucy.fr
SUMMARY:Inscriptions : Randonnée de l'Opéra Bastille à Sucy en Brie
DESCRIPTION:Randonnée “De l’Opéra Bastille à Sucy en Brie”  le vendredi 19 juillet \nInscriptions : à partir du vendredi 12 juillet au départ des marches (Parc de la Garennière) auprès des organisateurs de la randonnée Daniel DIEN et Patrick GEFFRELOT \nPour en savoir plus sur la randonnée : cliquez ici \n  \n 
URL:https://sla-sucy.fr/evenement/inscriptions-randonnee-de-lopera-bastille-a-sucy-en-brie/
CATEGORIES:Inscriptions,Randonnées
ATTACH;FMTTYPE=image/jpeg:https://sla-sucy.fr/wp-content/uploads/2023/09/Rando-Marches2.jpg
END:VEVENT
END:VCALENDAR