BEGIN:VCALENDAR
VERSION:2.0
PRODID:-//SLA - ECPv5.16.3.1//NONSGML v1.0//EN
CALSCALE:GREGORIAN
METHOD:PUBLISH
X-WR-CALNAME:SLA
X-ORIGINAL-URL:https://sla-sucy.fr
X-WR-CALDESC:Events for SLA
REFRESH-INTERVAL;VALUE=DURATION:PT1H
X-Robots-Tag:noindex
X-PUBLISHED-TTL:PT1H
BEGIN:VTIMEZONE
TZID:Europe/Paris
BEGIN:DAYLIGHT
TZOFFSETFROM:+0100
TZOFFSETTO:+0200
TZNAME:CEST
DTSTART:20240331T010000
END:DAYLIGHT
BEGIN:STANDARD
TZOFFSETFROM:+0200
TZOFFSETTO:+0100
TZNAME:CET
DTSTART:20241027T010000
END:STANDARD
END:VTIMEZONE
BEGIN:VEVENT
DTSTART;VALUE=DATE:20241025
DTEND;VALUE=DATE:20241106
DTSTAMP:20260422T100518
CREATED:20240828T141713Z
LAST-MODIFIED:20240828T145604Z
UID:38980-1729814400-1730851199@sla-sucy.fr
SUMMARY:Inscriptions : Randonnée Autour de Thomery
DESCRIPTION:Randonnée le vendredi 8 novembre 2024 \nInscription :\nAu départ des marches uniquement au marché du Fort\nà partir du vendredi 25 octobre 2024\nauprès des responsables : Marc THOMAS (06 87 55 42 77)\, Daniel DIEN (06 03 28 46 35). \nPour en savoir plus sur la randonnée : cliquez ici
URL:https://sla-sucy.fr/evenement/inscriptions-randonnee-autour-de-thomery/
CATEGORIES:Inscriptions,Randonnées
ATTACH;FMTTYPE=image/jpeg:https://sla-sucy.fr/wp-content/uploads/2023/09/Rando-Marches2.jpg
END:VEVENT
END:VCALENDAR