BEGIN:VCALENDAR
VERSION:2.0
PRODID:-//SLA - ECPv5.16.3.1//NONSGML v1.0//EN
CALSCALE:GREGORIAN
METHOD:PUBLISH
X-WR-CALNAME:SLA
X-ORIGINAL-URL:https://sla-sucy.fr
X-WR-CALDESC:Events for SLA
REFRESH-INTERVAL;VALUE=DURATION:PT1H
X-Robots-Tag:noindex
X-PUBLISHED-TTL:PT1H
BEGIN:VTIMEZONE
TZID:Europe/Paris
BEGIN:DAYLIGHT
TZOFFSETFROM:+0100
TZOFFSETTO:+0200
TZNAME:CEST
DTSTART:20240331T010000
END:DAYLIGHT
BEGIN:STANDARD
TZOFFSETFROM:+0200
TZOFFSETTO:+0100
TZNAME:CET
DTSTART:20241027T010000
END:STANDARD
END:VTIMEZONE
BEGIN:VEVENT
DTSTART;TZID=Europe/Paris:20241126T080000
DTEND;TZID=Europe/Paris:20241203T170000
DTSTAMP:20260422T081833
CREATED:20241015T094651Z
LAST-MODIFIED:20241203T092316Z
UID:40686-1732608000-1733245200@sla-sucy.fr
SUMMARY:Inscription : Saint Cucufa
DESCRIPTION:Randonnée du vendredi 6 décembre 2024 \nInscription :  \n\nles mardis 26/11 et 3/12 ainsi que le vendredi 29/11\,\nau « rocher »\,\nauprès d’André Labarrière (06 02 35 65 45) et de Pascal Soulet (07 86 97 90 92).\n\nPour en savoir plus : cliquez ici
URL:https://sla-sucy.fr/evenement/inscriptions-saint-cucufa/
CATEGORIES:Inscriptions,Randonnées
ATTACH;FMTTYPE=image/jpeg:https://sla-sucy.fr/wp-content/uploads/2023/09/Rando-Marches2.jpg
END:VEVENT
END:VCALENDAR