BEGIN:VCALENDAR
VERSION:2.0
PRODID:-//SLA - ECPv5.16.3.1//NONSGML v1.0//EN
CALSCALE:GREGORIAN
METHOD:PUBLISH
X-WR-CALNAME:SLA
X-ORIGINAL-URL:https://sla-sucy.fr
X-WR-CALDESC:Events for SLA
REFRESH-INTERVAL;VALUE=DURATION:PT1H
X-Robots-Tag:noindex
X-PUBLISHED-TTL:PT1H
BEGIN:VTIMEZONE
TZID:Europe/Paris
BEGIN:DAYLIGHT
TZOFFSETFROM:+0100
TZOFFSETTO:+0200
TZNAME:CEST
DTSTART:20240331T010000
END:DAYLIGHT
BEGIN:STANDARD
TZOFFSETFROM:+0200
TZOFFSETTO:+0100
TZNAME:CET
DTSTART:20241027T010000
END:STANDARD
BEGIN:DAYLIGHT
TZOFFSETFROM:+0100
TZOFFSETTO:+0200
TZNAME:CEST
DTSTART:20250330T010000
END:DAYLIGHT
BEGIN:STANDARD
TZOFFSETFROM:+0200
TZOFFSETTO:+0100
TZNAME:CET
DTSTART:20251026T010000
END:STANDARD
END:VTIMEZONE
BEGIN:VEVENT
DTSTART;TZID=Europe/Paris:20241217T084500
DTEND;TZID=Europe/Paris:20250107T084500
DTSTAMP:20260422T081922
CREATED:20241023T144834Z
LAST-MODIFIED:20241203T092713Z
UID:40935-1734425100-1736239500@sla-sucy.fr
SUMMARY:Inscription : Randonnée Neuville – Cergy-Le-Haut
DESCRIPTION:Randonnée le vendredi 17 janvier 2025 \nInscriptions : au départ des marches uniquement au marché du Fort à partir du mardi 17 décembre auprès des responsables : Patrick GEFFRELOT et Daniel DIEN\nPour le repas : prévoir un chèque de 26 € à l’ordre de SLA et préciser son choix à partir du menu proposé.\nPour en savoir plus : cliquez ici\n \n 
URL:https://sla-sucy.fr/evenement/inscription-randonnee-neuville-cergy-le-haut/
CATEGORIES:Inscriptions,Randonnées
ATTACH;FMTTYPE=image/jpeg:https://sla-sucy.fr/wp-content/uploads/2023/09/Rando-Marches2.jpg
END:VEVENT
END:VCALENDAR