BEGIN:VCALENDAR
VERSION:2.0
PRODID:-//SLA - ECPv5.16.3.1//NONSGML v1.0//EN
CALSCALE:GREGORIAN
METHOD:PUBLISH
X-WR-CALNAME:SLA
X-ORIGINAL-URL:https://sla-sucy.fr
X-WR-CALDESC:Events for SLA
REFRESH-INTERVAL;VALUE=DURATION:PT1H
X-Robots-Tag:noindex
X-PUBLISHED-TTL:PT1H
BEGIN:VTIMEZONE
TZID:Europe/Paris
BEGIN:DAYLIGHT
TZOFFSETFROM:+0100
TZOFFSETTO:+0200
TZNAME:CEST
DTSTART:20250330T010000
END:DAYLIGHT
BEGIN:STANDARD
TZOFFSETFROM:+0200
TZOFFSETTO:+0100
TZNAME:CET
DTSTART:20251026T010000
END:STANDARD
END:VTIMEZONE
BEGIN:VEVENT
DTSTART;VALUE=DATE:20250423
DTEND;VALUE=DATE:20250616
DTSTAMP:20260421T212403
CREATED:20250423T150709Z
LAST-MODIFIED:20250902T083440Z
UID:44260-1745366400-1750031999@sla-sucy.fr
SUMMARY:Préinscriptions Rando Raquettes : Lamoura\, le Jura français
DESCRIPTION:Une aventure de 5 jours / 6 nuits dans le Jura\nDu samedi 17 janvier (soir) au vendredi 23 janvier 2026 (matin) \nLe prix du séjour  : entre 670€ et 730 €/personne tout compris (dont la taxe de séjour\, la location des raquettes\, l’encadrement 6 demi-journées par des guides ESF\, ainsi que le vin\, les tisanes et les cafés). \nInscriptions :\n \n\nPréinscriptions : jusqu’au 15 juin auprès de Serge JAKUBOWICZ 06 85 35 23 56\nInscriptions définitives : en septembre 2025\n\nCliquer ici pour voir le détail du séjour
URL:https://sla-sucy.fr/evenement/preinscriptions-rando-raquettes-2026/
CATEGORIES:Inscriptions,Randonnées
ATTACH;FMTTYPE=image/jpeg:https://sla-sucy.fr/wp-content/uploads/2024/01/Ins.Raquettes.jpg
END:VEVENT
BEGIN:VEVENT
DTSTART;TZID=Europe/Paris:20250527T083000
DTEND;TZID=Europe/Paris:20250606T083000
DTSTAMP:20260421T212403
CREATED:20250123T125030Z
LAST-MODIFIED:20250512T094053Z
UID:42784-1748334600-1749198600@sla-sucy.fr
SUMMARY:Inscription : Randonnée Soisy-sur-Ecole - Dannemois
DESCRIPTION:Randonnée le mardi 10 juin \nJean-Claude CLERC et Didier MORAND vous proposent une randonnée de 17km en terrain légèrement vallonné qui vous emmènera sur les traces de Claude François. \nInscription :  \n\nAu marché du Fort et au rocher\nle mardi 27 Mai à 8h30\nauprès des responsables :\nJean-Claude CLERC : 06 49 98 22 59 jeanclaude.clerc@gmail.com\nDidier MORAND : 06 48 64 61 22 didier.morand@wanadoo.fr\n\nPour en savoir plus sur cette randonnée : Cliquer ici
URL:https://sla-sucy.fr/evenement/inscription-a-la-randonnee-soisy-sur-ecole-dannemois/
CATEGORIES:Inscriptions,Randonnées
ATTACH;FMTTYPE=image/jpeg:https://sla-sucy.fr/wp-content/uploads/2023/09/Rando-Marches2.jpg
END:VEVENT
END:VCALENDAR