BEGIN:VCALENDAR
VERSION:2.0
PRODID:-//SLA - ECPv5.16.3.1//NONSGML v1.0//EN
CALSCALE:GREGORIAN
METHOD:PUBLISH
X-WR-CALNAME:SLA
X-ORIGINAL-URL:https://sla-sucy.fr
X-WR-CALDESC:Events for SLA
REFRESH-INTERVAL;VALUE=DURATION:PT1H
X-Robots-Tag:noindex
X-PUBLISHED-TTL:PT1H
BEGIN:VTIMEZONE
TZID:Europe/Paris
BEGIN:DAYLIGHT
TZOFFSETFROM:+0100
TZOFFSETTO:+0200
TZNAME:CEST
DTSTART:20250330T010000
END:DAYLIGHT
BEGIN:STANDARD
TZOFFSETFROM:+0200
TZOFFSETTO:+0100
TZNAME:CET
DTSTART:20251026T010000
END:STANDARD
END:VTIMEZONE
BEGIN:VEVENT
DTSTART;TZID=Europe/Paris:20250715T083000
DTEND;TZID=Europe/Paris:20250718T083000
DTSTAMP:20260421T192834
CREATED:20250618T080343Z
LAST-MODIFIED:20250618T144014Z
UID:45712-1752568200-1752827400@sla-sucy.fr
SUMMARY:Inscription : Randonnée La Végétale
DESCRIPTION:Randonnée le mardi 22 juillet \nDaniel Dien vous propose une belle balade sur la coulée verte “La Végétale”. \n Cette randonnée de 17 km est ombragée à 80% et très facile\, sur chemin plat.  \nInscription : au rocher\, au départ des marches les mardi 15 et vendredi 18 juillet \nPour en savoir plus sur cette randonnée : Cliquer ici
URL:https://sla-sucy.fr/evenement/inscription-randonnee-la-vegetale/
CATEGORIES:Inscriptions,Randonnées
ATTACH;FMTTYPE=image/jpeg:https://sla-sucy.fr/wp-content/uploads/2023/09/Rando-Marches2.jpg
END:VEVENT
END:VCALENDAR