BEGIN:VCALENDAR
VERSION:2.0
PRODID:-//SLA - ECPv5.16.3.1//NONSGML v1.0//EN
CALSCALE:GREGORIAN
METHOD:PUBLISH
X-WR-CALNAME:SLA
X-ORIGINAL-URL:https://sla-sucy.fr
X-WR-CALDESC:Events for SLA
REFRESH-INTERVAL;VALUE=DURATION:PT1H
X-Robots-Tag:noindex
X-PUBLISHED-TTL:PT1H
BEGIN:VTIMEZONE
TZID:Europe/Paris
BEGIN:DAYLIGHT
TZOFFSETFROM:+0100
TZOFFSETTO:+0200
TZNAME:CEST
DTSTART:20250330T010000
END:DAYLIGHT
BEGIN:STANDARD
TZOFFSETFROM:+0200
TZOFFSETTO:+0100
TZNAME:CET
DTSTART:20251026T010000
END:STANDARD
END:VTIMEZONE
BEGIN:VEVENT
DTSTART;TZID=Europe/Paris:20250912T083000
DTEND;TZID=Europe/Paris:20250916T083000
DTSTAMP:20260421T160644
CREATED:20250808T144704Z
LAST-MODIFIED:20250828T182645Z
UID:46155-1757665800-1758011400@sla-sucy.fr
SUMMARY:Inscriptions : Randonnée - Autour de Saint-Siméon dans la vallée du Grand Morin
DESCRIPTION:Randonnée en Seine-et-Marne le vendredi 19 septembre \nAndré Labarrière et Philippe AUTIER vous proposent une randonnée d’environ 16 km dans la vallée du Grand Morin autour de Saint-Siméon. \nDéjeuner : pique-nique\, repas tiré du sac \nInscriptions :  uniquement auprès d’André Labarrière\n– au départ des marches au “rocher” les vendredi 12 et mardi 16 septembre\n– ou par téléphone à partir du 12 septembre : 06 02 35 65 45\nChaque marcheur précisera s’il met sa voiture à disposition pour le covoiturage. \nPour en savoir plus sur cette randonnée : Cliquer ici
URL:https://sla-sucy.fr/evenement/inscriptions-rando-autour-de-st-simeon/
CATEGORIES:Inscriptions,Randonnées
ATTACH;FMTTYPE=image/jpeg:https://sla-sucy.fr/wp-content/uploads/2023/09/Rando-Marches2.jpg
END:VEVENT
END:VCALENDAR