BEGIN:VCALENDAR
VERSION:2.0
PRODID:-//SLA - ECPv5.16.3.1//NONSGML v1.0//EN
CALSCALE:GREGORIAN
METHOD:PUBLISH
X-ORIGINAL-URL:https://sla-sucy.fr
X-WR-CALDESC:Events for SLA
REFRESH-INTERVAL;VALUE=DURATION:PT1H
X-Robots-Tag:noindex
X-PUBLISHED-TTL:PT1H
BEGIN:VTIMEZONE
TZID:Europe/Paris
BEGIN:DAYLIGHT
TZOFFSETFROM:+0100
TZOFFSETTO:+0200
TZNAME:CEST
DTSTART:20250330T010000
END:DAYLIGHT
BEGIN:STANDARD
TZOFFSETFROM:+0200
TZOFFSETTO:+0100
TZNAME:CET
DTSTART:20251026T010000
END:STANDARD
END:VTIMEZONE
BEGIN:VEVENT
DTSTART;TZID=Europe/Paris:20250917T100000
DTEND;TZID=Europe/Paris:20250917T113000
DTSTAMP:20260421T160827
CREATED:20250828T131025Z
LAST-MODIFIED:20250916T214743Z
UID:46270-1758103200-1758108600@sla-sucy.fr
SUMMARY:Inscriptions Rando Raquettes de janvier 2026
DESCRIPTION:Rando raquettes : Lamoura\, le jura français\ndu samedi 17 janvier (soir) au vendredi 23 janvier (matin) 2026\nUne aventure de 5 jours / 6 nuits dans le Jura\nLe prix du séjour : tout compris (dont la taxe de séjour\, la location des raquettes\, l’encadrement 7 demi-journées par des guides ESF\, ainsi que le vin\, les tisanes et les cafés)\nPour 26 participants :\n– Chambre double ou triple : 690 € / personne\n– Chambre single (attribuées selon les priorités habituelles) : 800 € / personne \nCe prix peut être légèrement modifié en fonction du nombre de personnes inscrites.\nLe trajet en covoiturage et la visite ne sont pas compris dans le prix du séjour. \nInscriptions :\n \n\nle mercredi 17 septembre 2025 de 10h00 à 11h30\,\nà la salle de la maison des associations (près de l’entrée principale de la MDA).\n\nAttention : seules les personnes ayant adhéré à SLA pour la saison 2025 2026 pourront être inscrites. \nPaiement : lors de l’inscription\, par 2 chèques établis à l’ordre de SLA pour les montants suivants : \n\nChambre single : 1 chèque de 300 € et un chèque de 500 €\,\nChambre double ou triple : 1 chèque de 290 € et un chèque de 400 €\,\nLe premier chèque sera mis à l’encaissement immédiatement\, le second le sera le 2 décembre.\n\nCliquer ici pour voir le détail du séjour
URL:https://sla-sucy.fr/evenement/inscriptions-rando-raquettes-lamoura-le-jura-francais2026/
LOCATION:Maison des Associations\, 14 place du Clos de Pacy\, Sucy en Brie\, 94370
CATEGORIES:Inscriptions,Randonnées
ATTACH;FMTTYPE=image/jpeg:https://sla-sucy.fr/wp-content/uploads/2024/01/Ins.Raquettes.jpg
END:VEVENT
END:VCALENDAR